BEGIN:VCALENDAR
VERSION:2.0
PRODID:-//Nashville.com - ECPv6.15.20//NONSGML v1.0//EN
CALSCALE:GREGORIAN
METHOD:PUBLISH
X-WR-CALNAME:Nashville.com
X-ORIGINAL-URL:https://www.nashville.com
X-WR-CALDESC:Events for Nashville.com
REFRESH-INTERVAL;VALUE=DURATION:PT1H
X-Robots-Tag:noindex
X-PUBLISHED-TTL:PT1H
BEGIN:VTIMEZONE
TZID:America/Chicago
BEGIN:DAYLIGHT
TZOFFSETFROM:-0600
TZOFFSETTO:-0500
TZNAME:CDT
DTSTART:20250309T080000
END:DAYLIGHT
BEGIN:STANDARD
TZOFFSETFROM:-0500
TZOFFSETTO:-0600
TZNAME:CST
DTSTART:20251102T070000
END:STANDARD
BEGIN:DAYLIGHT
TZOFFSETFROM:-0600
TZOFFSETTO:-0500
TZNAME:CDT
DTSTART:20260308T080000
END:DAYLIGHT
BEGIN:STANDARD
TZOFFSETFROM:-0500
TZOFFSETTO:-0600
TZNAME:CST
DTSTART:20261101T070000
END:STANDARD
BEGIN:DAYLIGHT
TZOFFSETFROM:-0600
TZOFFSETTO:-0500
TZNAME:CDT
DTSTART:20270314T080000
END:DAYLIGHT
BEGIN:STANDARD
TZOFFSETFROM:-0500
TZOFFSETTO:-0600
TZNAME:CST
DTSTART:20271107T070000
END:STANDARD
END:VTIMEZONE
BEGIN:VEVENT
DTSTART;VALUE=DATE:20260425
DTEND;VALUE=DATE:20260427
DTSTAMP:20260425T105944
CREATED:20260127T140922Z
LAST-MODIFIED:20260127T140922Z
UID:10031429-1777082400-1777168799@www.nashville.com
SUMMARY:St. Jude Rock 'n' Roll Running Series Nashville
DESCRIPTION:ST. JUDE ROCK ‘N’ ROLL RUNNING SERIES NASHVILLE \nWhen you choose the St. Jude Rock ‘n’ Roll Running Series Nashville\, be prepared to be immersed in music culture. From the Honky Tonk Highway pumping live music into the streets\, country artists each day at the expo as well as line dancing lessons\, 25+ course bands\, plus Encore Entertainment bands at the finish line\, all will satisfy your love of music. \nStarting at the home ice of the Nashville Predators\, over 25\,000 runners and St. Jude Heroes hit the streets for all the best sights of Music City. Runners pass numerous landmarks including Broadway Honky Tonks\, Schermerhorn Symphony\, The Country Hall of Fame\, Music City Center\, the Musica Roundabout\, Music Row\, the Gulch\, 12 South and Bicentennial Capitol Mall State Park. The marathon course takes runners through Horizon Park’s Nashville Sounds Baseball Club. \nRunners will finish on Victory Way outside of Nissan Stadium\, home of the Tennessee Titans\, with the fantastic Nashville city skyline within their view. You may also see one of your favorite artists like Sheryl Crow\, Jana Kramer\, Teri Clark\, Kelly Pickler\, TobyMac\, Chuck Wicks\, or Brian White running with you. And bring your cowboy hat and boots as they go well with the finisher medal. \nCharity  \n\nJude Children’s Research Hospital® is the official benefiting charity partner of the St. Jude Rock ‘n‘ Roll Running Series. It’s because of the generous support of the Nashville community\, people across the region and country that St. Jude Children’s Research Hospital continues to lead the way the world understands\, treats and defeats childhood cancer and other life-threatening diseases. For more information\, visit stjude.org.\n\nLocation \n\nNashville\, Tennessee\nStart returns to 8th and Broadway with the finish line location outside of Nissan Stadium with the amazing city skyline within their view. Participants will pass numerous landmarks including Broadway Honky Tonks\, Music Row\, the Gulch\, 12 South and Bicentennial Capitol Mall State Park. The course will lead participants past the Schermerhorn Symphony\, Music City Center and the Musica Roundabout beforefinishing outside of Nissan Stadium\, home of the Tennessee Titans.\n\nEvents \n\n2-mile foot race and wheelchair race\n1-mile foot race and wheelchair race\n10K foot race\n5K foot race\n1 Mile\nKiDS Rock\nDoggie Dash\n2-day race exhibition and packet pick up\n\nEntertainment \n\nEncore Entertainment at the Finish Line\nLive Music at the Expo\n25+ bands along the course
URL:https://www.nashville.com/event/st-jude-rock-n-roll-running-series-nashville/2026-04-25/
LOCATION:Downtown Nashville\, Nashville\, TN\, 37219\, United States
ATTACH;FMTTYPE=image/jpeg:https://www.nashville.com/wp-content/uploads/24.RnR_.start-copy-1-e1769522583961.jpg
END:VEVENT
BEGIN:VEVENT
DTSTART;TZID=America/Chicago:20260425T090000
DTEND;TZID=America/Chicago:20260425T170000
DTSTAMP:20260425T105944
CREATED:20260125T173333Z
LAST-MODIFIED:20260125T173333Z
UID:10030976-1777107600-1777136400@www.nashville.com
SUMMARY:Common Ground: The Hainsworth Collection in Conversation
DESCRIPTION:Common Ground brings together\, for the first time\, paintings from the Hainsworth family collection and Cheekwood’s permanent collection to create a rich visual survey of American painting from 1876 to 1940. The two Nashville-based collections displayed alongside one another create a dialogue\, revealing shared cultural aspirations and contrasting artistic visions. The exhibition examines major American art movements from the Hudson River School to American Impressionism and the Ashcan School. Together\, the two collections enhance one another\, offering a vibrant perspective on American art. \nPhoto Credit: Ella Sophonisba Hergesheimer (American\, 1873−1943)\, Hume Fogg High School\, c.1914\, oil on board. From the collection of John and Susan Hainsworth.
URL:https://www.nashville.com/event/common-ground-the-hainsworth-collection-in-conversation/2026-04-25/
LOCATION:Cheekwood Estate & Gardens\, 1200 Forrest Park Drive\, Nashville\, TN\, 37205\, United States
ATTACH;FMTTYPE=image/jpeg:https://www.nashville.com/wp-content/uploads/123950-e1769362265863.jpeg
ORGANIZER;CN="Cheekwood Estate & Gardens":MAILTO:LColeman@cheekwood.org
END:VEVENT
END:VCALENDAR